BEGIN:VCALENDAR
PRODID:-//eluceo/ical//2.0/EN
VERSION:2.0
CALSCALE:GREGORIAN
BEGIN:VEVENT
UID:3483cb6bb5d7b746ece8f99464ddeeb5
DTSTAMP:20260421T164545Z
SUMMARY:10 AM KI Scholar In Residence: "How Jews Get ‘Woke:"
DESCRIPTION:Jewish Federation of the Lehigh Valley\nCommunity Calendar\nhtt
 ps://jewishlehighvalley.org/calendar/10-am-ki-scholar-in-residence-how-jew
 s-get-woke\n\nScholar In Residence: "How Jews Get ‘Woke:" A Master Class
  in Talmud\n\nSaturday\, March 4\, 2023 • 11 Adar 5783\n\n10:00 AM - 1
 2:00 PM\n\n \n\n \n \n\n\n\n\nScholar in Residence: Rabbi Jeffrey Salki
 n\n\nStudy Session: "How Jews Get ‘Woke:" A Master Class in Talmud\n\nN
 ever studied Talmud before? This is a snap – especially because it’s i
 n English\, and it’s about how to seek social justice in our communities
 . Fun\, funny\, and inspirational.\n\n\nDate: Shabbat Morning\, March 4t..
 .
DTSTART;TZID=America/New_York:20230204T100000
DTEND;TZID=America/New_York:20230204T120000
END:VEVENT
END:VCALENDAR
