BEGIN:VCALENDAR
PRODID:-//eluceo/ical//2.0/EN
VERSION:2.0
CALSCALE:GREGORIAN
BEGIN:VEVENT
UID:d7d88bf42171984d4dc21c238dd225ef
DTSTAMP:20260421T154619Z
SUMMARY:10 am TBE BimBom Buddies January 28\, 2023
DESCRIPTION:Jewish Federation of the Lehigh Valley\nCommunity Calendar\nhtt
 ps://jewishlehighvalley.org/calendar/10-am-tbe-bimbom-buddies-january-28-2
 023\n\n10 am TBE BimBom Buddies
DTSTART;TZID=America/New_York:20230128T100000
DTEND;TZID=America/New_York:20230128T110000
END:VEVENT
END:VCALENDAR
