BEGIN:VCALENDAR
PRODID:-//eluceo/ical//2.0/EN
VERSION:2.0
CALSCALE:GREGORIAN
BEGIN:VEVENT
UID:872e3aaec06be2316f0d6b1ceea851ca
DTSTAMP:20260420T063117Z
SUMMARY:10 am  TBE GPS January 28\, 2023
DESCRIPTION:Jewish Federation of the Lehigh Valley\nCommunity Calendar\nhtt
 ps://jewishlehighvalley.org/calendar/10-am-tbe-gps-january-28-2023\n\n10 a
 m TBE GPS (Guided Prayer Service)
DTSTART;TZID=America/New_York:20230128T100000
DTEND;TZID=America/New_York:20230128T110000
END:VEVENT
END:VCALENDAR
