BEGIN:VCALENDAR
PRODID:-//eluceo/ical//2.0/EN
VERSION:2.0
CALSCALE:GREGORIAN
BEGIN:VEVENT
UID:973018a25ebc54796a319e9e6f716e7e
DTSTAMP:20260421T132632Z
SUMMARY:10:00 AM SOI Men's Club Brunch
DESCRIPTION:Jewish Federation of the Lehigh Valley\nCommunity Calendar\nhtt
 ps://jewishlehighvalley.org/calendar/1000-am-soi-mens-club-brunch\n\nOur g
 uest speaker will be Dr. Kevin Roth\, Board Certified Emergency Physician 
 and ARDM Certified Ultrasonographer\, who will speak on “Saving Lives 
 with Faster Diagnosis and Ultrasound at the Bedside”.  Dr. Roth is an
  entertaining speaker and pioneer in using ultrasound to improve healthca
 re.  He will bring a portable ultrasound with him and will use a voluntee
 r to demonstrate how a diagnosis can be made quickly on a patient entering
  the emergency room.  Emergency room physicians t...
DTSTART;TZID=America/New_York:20230115T100000
DTEND;TZID=America/New_York:20230115T120000
END:VEVENT
END:VCALENDAR
