BEGIN:VCALENDAR
PRODID:-//eluceo/ical//2.0/EN
VERSION:2.0
CALSCALE:GREGORIAN
BEGIN:VEVENT
UID:caaf541a538e0ec2877061e1c7f3ba11
DTSTAMP:20260421T002619Z
SUMMARY:10:00 am TBE Grade 3 Family Program
DESCRIPTION:Jewish Federation of the Lehigh Valley\nCommunity Calendar\nhtt
 ps://jewishlehighvalley.org/calendar/1000-am-tbe-grade-3-family-program3-6
 -16\n\nContact Michelle Rohrbach: michelle@bethelallentown.org or 610-435-
 3521.
DTSTART;TZID=America/New_York:20160306T100000
DTEND;TZID=America/New_York:20160306T120000
END:VEVENT
END:VCALENDAR
