BEGIN:VCALENDAR
PRODID:-//eluceo/ical//2.0/EN
VERSION:2.0
CALSCALE:GREGORIAN
BEGIN:VEVENT
UID:6a7a906be2b8b797d8b7c7ff88eb42f7
DTSTAMP:20260422T203302Z
SUMMARY:10:00AM KI Knitting with Maggie
DESCRIPTION:Jewish Federation of the Lehigh Valley\nCommunity Calendar\nhtt
 ps://jewishlehighvalley.org/calendar/1000am-ki-knitting-with-maggie-2026\n
 \nBack by popular demand\, Women of KI presents\n\n \n\nSunday Morning Kn
 itting With Maggie!\n\nWhether you are new to knitting or an old pro\, com
 e on in for conversation\, assistance\, inspiration and best of all\, shar
 ing your passion with others who feel the same.\n\n \n\nExperienced knitt
 ers will be on hand to help those who are new.\n\n \n\nQuestions? Contact
  Patty Carlis at pbcarlis@gmail.com.\n\n\n 
DTSTART;TZID=America/New_York:20260322T100000
DTEND;TZID=America/New_York:20260322T120000
END:VEVENT
END:VCALENDAR
