BEGIN:VCALENDAR
PRODID:-//eluceo/ical//2.0/EN
VERSION:2.0
CALSCALE:GREGORIAN
BEGIN:VEVENT
UID:a5d8e4e7d8e2e7774f7207f9e5416aea
DTSTAMP:20260419T200324Z
SUMMARY:10:00AM KI Soup Swap
DESCRIPTION:Jewish Federation of the Lehigh Valley\nCommunity Calendar\nhtt
 ps://jewishlehighvalley.org/calendar/1000am-ki-soup-swap-2025\n\n \n\nSou
 p Swap & Cooking Demo\n\nCLICK HERE to learn more and to register.\n\n \n
 \nSponsored by Women of KI\n\n\nTickets: $5 per person\n\n\nSWAP\nBring so
 me soup\, take some soup (not required to attend).\n \n\nSTUDY\nLearn the
  secrets of great soup making at a demo with Chef Eric.\n\nSUPPORT\nBring 
 a can (or two) of soup to support the Jewish Family Service Food Pantry.\
 n\n \n\nRSVP BY MARCH 22\, 2025
DTSTART;TZID=America/New_York:20250330T100000
DTEND;TZID=America/New_York:20250330T120000
END:VEVENT
END:VCALENDAR
