BEGIN:VCALENDAR
PRODID:-//eluceo/ical//2.0/EN
VERSION:2.0
CALSCALE:GREGORIAN
BEGIN:VEVENT
UID:98ad443dc5a2e7b477fe698fe41f63a8
DTSTAMP:20260419T202639Z
SUMMARY:Women's Philanthropy Mitzvah Project: HRC Organization
DESCRIPTION:Jewish Federation of the Lehigh Valley\nCommunity Calendar\nhtt
 ps://jewishlehighvalley.org/calendar/1015-am-jflv-wp-mitzvah-project-hrc-o
 rganization-2-1-23\n\nJoin Women's Philanthropy of the Jewish Federation f
 or an important mitzvah project. The community's Holocaust Resource Cent
 er\, located inside the Jewish Community Center\, is in need of sprucing u
 p for future generations to use and cherish. The center is filled with his
 toric information and resources that need to be organized and we would lov
 e your assistance!\n\nJoin us for one\, two or all of the dates. The date
 s and times are:\n\nFebruary 1st: 10:15 a.m. -12:15 p.m.\nFebruary 15th: 1
 0:15...
DTSTART;TZID=America/New_York:20230201T101500
DTEND;TZID=America/New_York:20230201T121500
END:VEVENT
END:VCALENDAR
