BEGIN:VCALENDAR
PRODID:-//eluceo/ical//2.0/EN
VERSION:2.0
CALSCALE:GREGORIAN
BEGIN:VEVENT
UID:6fe197073ae72c7089a6f60374aae4db
DTSTAMP:20260421T122837Z
SUMMARY:10:30 a.m. SOI Sisterhood Meeting & Activity
DESCRIPTION:Jewish Federation of the Lehigh Valley\nCommunity Calendar\nhtt
 ps://jewishlehighvalley.org/calendar/1030-am-soi-sisterhood-meeting-activi
 ty\n\nJoin Sisterhood for a meeting and craft in the shul's sukkah.
DTSTART;TZID=America/New_York:20251012T103000
DTEND;TZID=America/New_York:20251012T130000
END:VEVENT
END:VCALENDAR
