BEGIN:VCALENDAR
PRODID:-//eluceo/ical//2.0/EN
VERSION:2.0
CALSCALE:GREGORIAN
BEGIN:VEVENT
UID:b821013d2f44c2e5faa60c964840b83f
DTSTAMP:20260419T205706Z
SUMMARY:10:30 AM SOI Touch-a-Truck & Chametz Burning
DESCRIPTION:Jewish Federation of the Lehigh Valley\nCommunity Calendar\nhtt
 ps://jewishlehighvalley.org/calendar/1030-am-soi-touch-a-truck-chametz-bur
 ning\n\nCongregation Sons of Israel invites you to "Touch-a-Truck" & Chame
 tz Burning in the Sons of Israel parking lot.  This event is free and ope
 n to all!  \n\nFor more information\, please contact rabbi@sonsofisrael.
 net.\n\n 
DTSTART;TZID=America/New_York:20260401T103000
DTEND;TZID=America/New_York:20260401T233000
END:VEVENT
END:VCALENDAR
