BEGIN:VCALENDAR
PRODID:-//eluceo/ical//2.0/EN
VERSION:2.0
CALSCALE:GREGORIAN
BEGIN:VEVENT
UID:04172ef993817d858e6865dc6ba4208d
DTSTAMP:20260421T084010Z
SUMMARY:10:30AM KI Artistic Book Making with Susan Hardy
DESCRIPTION:Jewish Federation of the Lehigh Valley\nCommunity Calendar\nhtt
 ps://jewishlehighvalley.org/calendar/1030am-ki-artistic-book-making-with-s
 usan-hardy\n\nArtistic Book Making with Susan Hardy\n\nTetzaveh\n\n\nDate:
  March 8\, 2025\nTime: 10:30am-12:00pm\n\n\nRegister by March 6\n\nBack b
 y popular demand! This is Susan's fourth year teaching for Shabbat Out of 
 the Box and her belief that art is a universal language that resides withi
 n every soul has inspired us through drawing\, painting\, and printing. Co
 me explore your inner creativity and see what Susan has planned for us thi
 s year. No art experience necessary supplies will be provided A...
DTSTART;TZID=America/New_York:20250308T103000
DTEND;TZID=America/New_York:20250308T120000
END:VEVENT
END:VCALENDAR
