BEGIN:VCALENDAR
PRODID:-//eluceo/ical//2.0/EN
VERSION:2.0
CALSCALE:GREGORIAN
BEGIN:VEVENT
UID:b7723aca0934658518627e8c147eaec8
DTSTAMP:20260420T063209Z
SUMMARY:10am JCC American Red Cross Lifeguard Certification Class
DESCRIPTION:Jewish Federation of the Lehigh Valley\nCommunity Calendar\nhtt
 ps://jewishlehighvalley.org/calendar/10am-jcc-american-red-cross-lifeguard
 -certification-class-dec2025\n\nThis course teaches the knowledge and skil
 ls needed to prevent and respond to aquatic emergencies at a swimming pool
  facility.\nParticipants must pass the prerequisite swim test and the fina
 l exams. All course materials will be provided.
DTSTART;TZID=America/New_York:20251222T120000
DTEND;TZID=America/New_York:20251222T170000
END:VEVENT
END:VCALENDAR
