BEGIN:VCALENDAR
PRODID:-//eluceo/ical//2.0/EN
VERSION:2.0
CALSCALE:GREGORIAN
BEGIN:VEVENT
UID:ac3cdc40ea878c74618daf79c1ced9e8
DTSTAMP:20260422T101442Z
SUMMARY:11:00 am JCC Community Purim Carnival 2025
DESCRIPTION:Jewish Federation of the Lehigh Valley\nCommunity Calendar\nhtt
 ps://jewishlehighvalley.org/calendar/1100-am-jcc-community-purim-carnival-
 2025\n\nCelebrate the holiday with games\, activities\, snacks\, prizes\, 
 crafts\, and a costume parade. Games and activities are from 11 to noon\; 
 parade begins at noon. Kosher snacks will be available for purchase. Con
 tact Simon Katz with any questions at skatz@lvjcc.org. All are invited an
 d admission is free\; adults who are not JCC members must bring a photo ID
  to enter. The event is sponsored by the JCC\, Jewish Federation\, and Je
 wish Day School.
DTSTART;TZID=America/New_York:20250309T110000
DTEND;TZID=America/New_York:20250309T123000
END:VEVENT
END:VCALENDAR
