BEGIN:VCALENDAR
PRODID:-//eluceo/ical//2.0/EN
VERSION:2.0
CALSCALE:GREGORIAN
BEGIN:VEVENT
UID:1228ff65ea102880d263e804cacb8552
DTSTAMP:20260422T023002Z
SUMMARY:11:00 AM SOI Pre-Passover Class
DESCRIPTION:Jewish Federation of the Lehigh Valley\nCommunity Calendar\nhtt
 ps://jewishlehighvalley.org/calendar/1100-am-soi-pre-passover-class\n\nA p
 re-Passover Planning class will be held at SOI at 11:00 a.m.
DTSTART;TZID=America/New_York:20250330T110000
DTEND;TZID=America/New_York:20250330T130000
END:VEVENT
END:VCALENDAR
