BEGIN:VCALENDAR
PRODID:-//eluceo/ical//2.0/EN
VERSION:2.0
CALSCALE:GREGORIAN
BEGIN:VEVENT
UID:033cd2fdba526c93645ec0a8abbbf205
DTSTAMP:20260425T232150Z
SUMMARY:11:45 am JCC Friendship Circle
DESCRIPTION:Jewish Federation of the Lehigh Valley\nCommunity Calendar\nhtt
 ps://jewishlehighvalley.org/calendar/1145-am-jcc-friendship-circle-Feb-Mar
 ch\n\nA social gathering including special programming. Programs vary and
  often include musical entertainment\, special speakers\, demonstrations\,
  or hands-on activities.
DTSTART;TZID=America/New_York:20240226T114500
DTEND;TZID=America/New_York:20240226T140000
END:VEVENT
END:VCALENDAR
