BEGIN:VCALENDAR
PRODID:-//eluceo/ical//2.0/EN
VERSION:2.0
CALSCALE:GREGORIAN
BEGIN:VEVENT
UID:108f7234602531381f7bbce4c6deba7a
DTSTAMP:20260419T170301Z
SUMMARY:11:45am JCC Friendship Circle
DESCRIPTION:Jewish Federation of the Lehigh Valley\nCommunity Calendar\nhtt
 ps://jewishlehighvalley.org/calendar/1145am-jcc-friendship-circle-feb\n\nA
  regular social gathering including special programming like musical enter
 tainment\, special speakers\, demonstrations or hands-on activities. Veget
 arian lunch will be provided.
DTSTART;TZID=America/New_York:20250224T114500
DTEND;TZID=America/New_York:20250224T134500
END:VEVENT
END:VCALENDAR
