BEGIN:VCALENDAR
PRODID:-//eluceo/ical//2.0/EN
VERSION:2.0
CALSCALE:GREGORIAN
BEGIN:VEVENT
UID:5d3b0c58a874b8a7dc3176f7f4d1d3da
DTSTAMP:20260421T082210Z
SUMMARY:11:45am JCC Friendship Circle
DESCRIPTION:Jewish Federation of the Lehigh Valley\nCommunity Calendar\nhtt
 ps://jewishlehighvalley.org/calendar/1145am-jcc-friendship-circle-sept\n\n
 A weekly social gathering including special programming. Programs vary and
  often include musical entertainment\, special speakers\, demonstrations\,
  or hands-on activities. Friendship Circle is a wonderful opportunity to c
 onnect with others in the community.
DTSTART;TZID=America/New_York:20220919T114500
DTEND;TZID=America/New_York:20220919T140000
END:VEVENT
END:VCALENDAR
