BEGIN:VCALENDAR
PRODID:-//eluceo/ical//2.0/EN
VERSION:2.0
CALSCALE:GREGORIAN
BEGIN:VEVENT
UID:d7bc38eb4e54216d56d9d86b911d9791
DTSTAMP:20260425T032221Z
SUMMARY:11:45am JCC Friendship Circle
DESCRIPTION:Jewish Federation of the Lehigh Valley\nCommunity Calendar\nhtt
 ps://jewishlehighvalley.org/calendar/1145am-jcc-friendship-circledoctober\
 n\nA weekly social gathering including special programming. Programs vary 
 and often include musical entertainment\, special speakers\, demonstration
 s or hands-on activities. Friendship Circle is a wonderful opportunity to 
 connect with others in the community. \n\nMondays | 11:45am-2pm | Ages: 5
 0+ | at the JCC\nAnnual Membership Fee: $36
DTSTART;TZID=America/New_York:20211025T114500
DTEND;TZID=America/New_York:20211025T140000
END:VEVENT
END:VCALENDAR
