BEGIN:VCALENDAR
PRODID:-//eluceo/ical//2.0/EN
VERSION:2.0
CALSCALE:GREGORIAN
BEGIN:VEVENT
UID:6f2d208e941e4db2c13ca10eb6ab0999
DTSTAMP:20260422T112829Z
SUMMARY:1pm JCC Stagemakers Performance
DESCRIPTION:Jewish Federation of the Lehigh Valley\nCommunity Calendar\nhtt
 ps://jewishlehighvalley.org/calendar/1pm-jcc-stagemakers-performance-march
 301\n\nJCC Stagemakers Performance\n\nCrazy\, man – crazy! This charming
 \, smooth\, and adventurous stage adaptation of Disney's The Aristocats Ki
 ds is a celebration of Disney’s exploration into mid-century jazz in Par
 is. Cat-napped and abandoned miles from home by a dastardly butler with a 
 hidden agenda\, Duchess and her kittens\, Telouse\, Berlioz\, and Marie 
 – the smartest Aristocats in Paris – set off on a journey to reunite w
 ith their beloved owner\, Madame. With the unlikely help of a jazz-lov...
DTSTART;TZID=America/New_York:20250330T130000
DTEND;TZID=America/New_York:20250330T143000
END:VEVENT
END:VCALENDAR
