BEGIN:VCALENDAR
PRODID:-//eluceo/ical//2.0/EN
VERSION:2.0
CALSCALE:GREGORIAN
BEGIN:VEVENT
UID:13a97a14dd6d409d511d3b2233196074
DTSTAMP:20260421T170914Z
SUMMARY:2:00 pm TBE JFE Bowling
DESCRIPTION:Jewish Federation of the Lehigh Valley\nCommunity Calendar\nhtt
 ps://jewishlehighvalley.org/calendar/200-pm-tbe-jfe-bowling\n\nJoin JFE fo
 r a fun afternoon of bowling. $13 per person (include 2 games and shoes)
 .\n\nPlease bring toothpaste (or toothbrushes or floss) to donate to JFS f
 or the pantry item of the month.\n\nClick here to register. Questions? Con
 tact beth@bethelallentown.org or 610-435-3521 x106\n\nLocation: Haja Rose 
 Bowl\, 801 N 15h Street\, Allentown\, PA 18104
DTSTART;TZID=America/New_York:20250223T140000
DTEND;TZID=America/New_York:20250223T160000
END:VEVENT
END:VCALENDAR
