BEGIN:VCALENDAR
PRODID:-//eluceo/ical//2.0/EN
VERSION:2.0
CALSCALE:GREGORIAN
BEGIN:VEVENT
UID:d3f8dcec448450611716a36f91696d8c
DTSTAMP:20260420T064213Z
SUMMARY:3:30 pm PJ Library Celebrates Tu B'Shevat
DESCRIPTION:Jewish Federation of the Lehigh Valley\nCommunity Calendar\nhtt
 ps://jewishlehighvalley.org/calendar/330-pm-pj-library-celebrates-tu-bshev
 at\n\nCelebrate Tu B'Shevat - Reduce\, Reuse and Recycle \n\nJoin PJ Lib
 rary and Muhlenberg College Hillel to learn about Tu B'Shevat\, "The Birth
 day of the Trees." Experience Tu B'Shevat at stations with reduce\, reuse
  and recycle themed activities. Snacks\, crafts and\, of course\, a PJ Li
 brary story!\n\nRegister here. \n\nLocation: Leffell Center for Jewish St
 udent Life\, W. Chew Street and 23rd Street Allentown\, PA\n\nContact Abb
 y Trachtman with questions: abbyt@jflv.org or 610-821-5500 x321\n\n 
DTSTART;TZID=America/New_York:20230129T153000
DTEND;TZID=America/New_York:20230129T170000
END:VEVENT
END:VCALENDAR
