BEGIN:VCALENDAR
PRODID:-//eluceo/ical//2.0/EN
VERSION:2.0
CALSCALE:GREGORIAN
BEGIN:VEVENT
UID:1c69f4cc02436c146a225be6ebd3c47d
DTSTAMP:20260421T034810Z
SUMMARY:4:00 PM KI Spring into Giving: Food Drive
DESCRIPTION:Jewish Federation of the Lehigh Valley\nCommunity Calendar\nhtt
 ps://jewishlehighvalley.org/calendar/400-pm-ki-spring-into-giving-food-dri
 ve\n\nBrightstar Care of Stroudsburg & Allentown\, Amedisys Hospice\, and 
 Meals on Wheels of the Greater Lehigh Valley are partnering with Friends 
 of Pete to host a "Helping Hour" to benefit Meals on Wheels.\n\nJoin us fo
 r an afternoon of networking\, snacks\, and tastings courtesy of Cellar Be
 ast\, Bar H\, and Sherman Street Brewery. There will be local businesses a
 nd organizations on hand from the Midway Manor community\, and local vendo
 rs. Click here to register.\n\nRain date: Wednesday\, May ...
DTSTART;TZID=America/New_York:20260513T160000
DTEND;TZID=America/New_York:20260513T190000
END:VEVENT
END:VCALENDAR
