BEGIN:VCALENDAR
PRODID:-//eluceo/ical//2.0/EN
VERSION:2.0
CALSCALE:GREGORIAN
BEGIN:VEVENT
UID:776b4206b85ee2eb520af770c345cb3c
DTSTAMP:20260420T184229Z
SUMMARY:4:00 PM SOI Six13 Community Concert
DESCRIPTION:Jewish Federation of the Lehigh Valley\nCommunity Calendar\nhtt
 ps://jewishlehighvalley.org/calendar/400-pm-soi-community-concert\n\nBack 
 by popular demand!  Six13 returns to Congregation Sons of Israel for a co
 mmunity-wide concert on Sunday\, March 23\, at 4:00 p.m.  Six13 is an awa
 rd-winning six-man a cappella vocal band that brings an unprecedented styl
 e and energy to Jewish music\, with nothing but the power of the human voi
 ce.  General admission is $50\, for students and children 4 and up $36\,
  and children 3 & under are free (on lap).  Event sponsorships are availa
 ble.  Seating is limited\, so register soon at https...
DTSTART;TZID=America/New_York:20250323T160000
DTEND;TZID=America/New_York:20250323T180000
END:VEVENT
END:VCALENDAR
