BEGIN:VCALENDAR
PRODID:-//eluceo/ical//2.0/EN
VERSION:2.0
CALSCALE:GREGORIAN
BEGIN:VEVENT
UID:c20bc6bd9c820b528379a23a105c3999
DTSTAMP:20260420T140951Z
SUMMARY:4:30 pm TBE Family Megillah Reading
DESCRIPTION:Jewish Federation of the Lehigh Valley\nCommunity Calendar\nhtt
 ps://jewishlehighvalley.org/calendar/430-pm-tbe-family-megillah-reading\n\
 nTBE Family Megillah Reading
DTSTART;TZID=America/New_York:20250312T163000
DTEND;TZID=America/New_York:20250312T173000
END:VEVENT
END:VCALENDAR
