BEGIN:VCALENDAR
PRODID:-//eluceo/ical//2.0/EN
VERSION:2.0
CALSCALE:GREGORIAN
BEGIN:VEVENT
UID:f19082b33de3852bd43a77987a66b6c4
DTSTAMP:20260424T190153Z
SUMMARY:4pm JCC Stagemakers Performance
DESCRIPTION:Jewish Federation of the Lehigh Valley\nCommunity Calendar\nhtt
 ps://jewishlehighvalley.org/calendar/4pm-jcc-stagemakers-performance-mar30
 2\n\nJCC Stagemakers Performance
DTSTART;TZID=America/New_York:20250330T160000
DTEND;TZID=America/New_York:20250330T173000
END:VEVENT
END:VCALENDAR
