BEGIN:VCALENDAR
PRODID:-//eluceo/ical//2.0/EN
VERSION:2.0
CALSCALE:GREGORIAN
BEGIN:VEVENT
UID:a6bcfaf8f61b10761ca970cc1d213c0e
DTSTAMP:20260420T211751Z
SUMMARY:5 PM KI SOOTB: Havdalah Sing-a-long & Dinner
DESCRIPTION:Jewish Federation of the Lehigh Valley\nCommunity Calendar\nhtt
 ps://jewishlehighvalley.org/calendar/5-pm-ki-sootb-havdalah-sing-a-long-di
 nner\n\nShabbat Out of the Box: Havdalah Sing-a-long and Dinner\n\n\nDate:
  January 14\, 2023\nTime: 5-7 pm\n\n\nChase away the winter blues with Rab
 bi Phil as we mark the close of the Sabbath and transition into the beginn
 ing of the week with Havdalah\, songs\, and togetherness. All ages welcome
 !\n\nRegister at kilv.org by January 10.
DTSTART;TZID=America/New_York:20230114T170000
DTEND;TZID=America/New_York:20230114T190000
END:VEVENT
END:VCALENDAR
