BEGIN:VCALENDAR
PRODID:-//eluceo/ical//2.0/EN
VERSION:2.0
CALSCALE:GREGORIAN
BEGIN:VEVENT
UID:7540429800270979bc87ad9bceb49349
DTSTAMP:20260419T170311Z
SUMMARY:7:00 pm KI Special Congregational Meetings
DESCRIPTION:Jewish Federation of the Lehigh Valley\nCommunity Calendar\nhtt
 ps://jewishlehighvalley.org/calendar/500-pm-ki-congregational-meetings-1-2
 7\n\nDate: Monday\, January 27th\,2025\nTime: 7:00 PM - 7:30 PM\n\n\nVirtu
 al-only special meeting to approve Bylaws changes.\n\nThe Zoom link will b
 e sent out on both January 12 and 26.\n\nClick HERE to register.
DTSTART;TZID=America/New_York:20250227T190000
DTEND;TZID=America/New_York:20250227T193000
END:VEVENT
END:VCALENDAR
