BEGIN:VCALENDAR
PRODID:-//eluceo/ical//2.0/EN
VERSION:2.0
CALSCALE:GREGORIAN
BEGIN:VEVENT
UID:22072bd4b4fef4c6bcf49c3fbb7e1510
DTSTAMP:20260419T185748Z
SUMMARY:5:30 PM KI Sippin' in the Sukkah for Sukkot
DESCRIPTION:Jewish Federation of the Lehigh Valley\nCommunity Calendar\nhtt
 ps://jewishlehighvalley.org/calendar/530-pm-ki-sippin-in-the-sukkah-for-su
 kkot\n\nJoin Rabbi Seth for relaxed refreshments in the Sukkah.  Smell th
 e etrog\, shake the lulav and enjoy being outdoors.
DTSTART;TZID=America/New_York:20191013T173000
DTEND;TZID=America/New_York:20191013T183000
END:VEVENT
END:VCALENDAR
