BEGIN:VCALENDAR
PRODID:-//eluceo/ical//2.0/EN
VERSION:2.0
CALSCALE:GREGORIAN
BEGIN:VEVENT
UID:6c210e4887090f457cf6adbba8092a8b
DTSTAMP:20260420T040317Z
SUMMARY:5:30 pm TBE Iyengar Yoga (8 week course) Jan - Feb 2020
DESCRIPTION:Jewish Federation of the Lehigh Valley\nCommunity Calendar\nhtt
 ps://jewishlehighvalley.org/calendar/530-pm-tbe-iyengar-yoga-8-week-course
 -jan-feb-2020\n\n5:30 pm TBE Iyengar Yoga (8 week course)  $80 - Bring: y
 oga mat\, yoga blanket\, and 2 yoga blocks\nIyengar Yoga is taught by high
 ly-trained\, certified teachers who are skilled in their ability to indivi
 dualize their teaching for each student. They have the unique capacity to 
 demonstrate and break down the poses so they are accessible to students of
  all skill levels and to seamlessly integrate those with common problems (
 ie\, knee\, low back\, hip\, neck and shoulders\, stiffness\, etc.) into a
  gene...
DTSTART;TZID=America/New_York:20200107T173000
DTEND;TZID=America/New_York:20200107T184500
END:VEVENT
END:VCALENDAR
