BEGIN:VCALENDAR
PRODID:-//eluceo/ical//2.0/EN
VERSION:2.0
CALSCALE:GREGORIAN
BEGIN:VEVENT
UID:1b4c5b80b7f6e31a9ce9261e4791b398
DTSTAMP:20260424T190720Z
SUMMARY:5:30pm JCC Challah Club
DESCRIPTION:Jewish Federation of the Lehigh Valley\nCommunity Calendar\nhtt
 ps://jewishlehighvalley.org/calendar/530pm-jcc-21\n\nFamily Challah Bake!\
 nMake and Take\nLearn something new each month!\nFun braids\, styles\, and
  of course Rainbow Challah!\nFirst Thursday of the month 5:30-6:30pm\nSep 
 2nd\, Oct 7th\,Nov 4th\, Dec 2nd\, Jan 6th\,Feb 3\, March 3\,April 7th\, *
 May 12th\, June 2nd
DTSTART;TZID=America/New_York:20210902T173000
DTEND;TZID=America/New_York:20210902T183000
END:VEVENT
END:VCALENDAR
