BEGIN:VCALENDAR
PRODID:-//eluceo/ical//2.0/EN
VERSION:2.0
CALSCALE:GREGORIAN
BEGIN:VEVENT
UID:63147a3efc880cdd190cd859f0765157
DTSTAMP:20260424T141924Z
SUMMARY:5:30pm JCC Shabbat on the Lawn
DESCRIPTION:Jewish Federation of the Lehigh Valley\nCommunity Calendar\nhtt
 ps://jewishlehighvalley.org/calendar/530pm-jcc-shabbat-on-the-lawn\n\nComm
 unity Shabbat celebration on the lawn\n"Shabbat Kit" to go\n$5/family regi
 stration
DTSTART;TZID=America/New_York:20210903T173000
DTEND;TZID=America/New_York:20210903T181500
END:VEVENT
END:VCALENDAR
