BEGIN:VCALENDAR
PRODID:-//eluceo/ical//2.0/EN
VERSION:2.0
CALSCALE:GREGORIAN
BEGIN:VEVENT
UID:60fb556a43c167c4b66a122908a91677
DTSTAMP:20260420T080755Z
SUMMARY:5:30pm KI Annual Gala
DESCRIPTION:Jewish Federation of the Lehigh Valley\nCommunity Calendar\nhtt
 ps://jewishlehighvalley.org/calendar/530pm-ki-annual-gala\n\nCongregation 
 Keneseth Israel invites you to\n\nCELEBRATE THE ROARING 20'S\n\nhonoring\n
 \nERIC and CHOTY RAPPAPORT \n\n \n\nEntertainment by Ron Sunshine & Fu
 ll Swing\, Featuring Nancy Reed.\n\n \n\n \n\n\n5:30pm: Cocktail Recepti
 on\n6:30pm: Dinner & Dancing\n8:30pm: Dessert Reception\n\n\n \n\n\n\n \
 n\nRSVP by Friday\, June 13
DTSTART;TZID=America/New_York:20250628T173000
DTEND;TZID=America/New_York:20250628T220000
END:VEVENT
END:VCALENDAR
