BEGIN:VCALENDAR
PRODID:-//eluceo/ical//2.0/EN
VERSION:2.0
CALSCALE:GREGORIAN
BEGIN:VEVENT
UID:1ebca958dd130ed2d2d1e595a25b92c1
DTSTAMP:20260420T141818Z
SUMMARY:5:30PM KI\, Bnai Shalom and TBE  Miriam's Song Seder 2025
DESCRIPTION:Jewish Federation of the Lehigh Valley\nCommunity Calendar\nhtt
 ps://jewishlehighvalley.org/calendar/530pm-ki-miriams-song-seder-2025\n\nA
  Celebration & Exploration of Freedom Shared through Women's Voices \n\nP
 resented by Women of KI\, Bnai Shalom Sisterhood\, & Sisterhood of Temple 
 Beth El \nCelebrate Pesach with Miriam's Song Seder\n\n \n\n\nWhere: Te
 mple Beth El\, 1305 Springhouse Road\nTickets: $55 per person for TBE Sist
 erhood\, Bnai Shalom Sisterhood\, & Women of KI       members\n    
            $60 per person for non-members\n\n\nLed by Rabbi Shoshaha
 h Tornberg & Shari Spark along with Rabbi Adrie...
DTSTART;TZID=America/New_York:20250327T173000
DTEND;TZID=America/New_York:20250327T203000
END:VEVENT
END:VCALENDAR
