BEGIN:VCALENDAR
PRODID:-//eluceo/ical//2.0/EN
VERSION:2.0
CALSCALE:GREGORIAN
BEGIN:VEVENT
UID:7d3afaf0e81eea9a46bd5980cce2b8ee
DTSTAMP:20260420T132803Z
SUMMARY:5pm JCC Finance Committee Meeting
DESCRIPTION:Jewish Federation of the Lehigh Valley\nCommunity Calendar\nhtt
 ps://jewishlehighvalley.org/calendar/5pm-jcc-finance-committee-meeting\n\n
 JCC Finance Committee Meeting
DTSTART;TZID=America/New_York:20190717T170000
DTEND;TZID=America/New_York:20190717T183000
END:VEVENT
END:VCALENDAR
