BEGIN:VCALENDAR
PRODID:-//eluceo/ical//2.0/EN
VERSION:2.0
CALSCALE:GREGORIAN
BEGIN:VEVENT
UID:ded59e12bf3211c123c2a991035dcc76
DTSTAMP:20260421T103511Z
SUMMARY:5pm JCC Finance Committee Meeting
DESCRIPTION:Jewish Federation of the Lehigh Valley\nCommunity Calendar\nhtt
 ps://jewishlehighvalley.org/calendar/5pm-jcc-finance-committee-meeting-dec
 \n\nJCC Finance Committee Meeting
DTSTART;TZID=America/New_York:20201216T170000
DTEND;TZID=America/New_York:20201216T183000
END:VEVENT
END:VCALENDAR
