BEGIN:VCALENDAR
PRODID:-//eluceo/ical//2.0/EN
VERSION:2.0
CALSCALE:GREGORIAN
BEGIN:VEVENT
UID:10266bf1c26edebba8cf372949173d84
DTSTAMP:20260426T005010Z
SUMMARY:5pm JCC Finance Committee Meeting
DESCRIPTION:Jewish Federation of the Lehigh Valley\nCommunity Calendar\nhtt
 ps://jewishlehighvalley.org/calendar/5pm-jcc-finance-committee-meeting-oct
 -nov\n\nJCC Finance Committee Meeting
DTSTART;TZID=America/New_York:20201014T170000
DTEND;TZID=America/New_York:20201014T183000
END:VEVENT
END:VCALENDAR
