BEGIN:VCALENDAR
PRODID:-//eluceo/ical//2.0/EN
VERSION:2.0
CALSCALE:GREGORIAN
BEGIN:VEVENT
UID:0700e6ab14a9bfb08e8e77ae50b481cc
DTSTAMP:20260419T134920Z
SUMMARY:6 pm TBE Erev Shabbat and Teen Service February 3\, 2023
DESCRIPTION:Jewish Federation of the Lehigh Valley\nCommunity Calendar\nhtt
 ps://jewishlehighvalley.org/calendar/6-pm-tbe-erev-shabbat-and-teen-servic
 e-february-3-2023\n\n6 pm TBE Erev Shabbat and Teen Service
DTSTART;TZID=America/New_York:20230203T180000
DTEND;TZID=America/New_York:20230203T190000
END:VEVENT
END:VCALENDAR
