BEGIN:VCALENDAR
PRODID:-//eluceo/ical//2.0/EN
VERSION:2.0
CALSCALE:GREGORIAN
BEGIN:VEVENT
UID:032ab73f3fd39b46bd7becb2eaa5368a
DTSTAMP:20260419T205736Z
SUMMARY:6:00 pm CBS A Fishy Shabbat 
DESCRIPTION:Jewish Federation of the Lehigh Valley\nCommunity Calendar\nhtt
 ps://jewishlehighvalley.org/calendar/600-pm-cbs-a-fishy-shabbat-3-11-16\n\
 nCall Tammy at 610-866-8009 for reservations & more information. For those
  that need transportation\, please contact Tammy.
DTSTART;TZID=America/New_York:20160311T180000
DTEND;TZID=America/New_York:20160311T210000
END:VEVENT
END:VCALENDAR
