BEGIN:VCALENDAR
PRODID:-//eluceo/ical//2.0/EN
VERSION:2.0
CALSCALE:GREGORIAN
BEGIN:VEVENT
UID:1e17c137c1f5ddc59478770329a96510
DTSTAMP:20260422T012353Z
SUMMARY:6:00PM KI Purim Feast Celebration w/Spiel
DESCRIPTION:Jewish Federation of the Lehigh Valley\nCommunity Calendar\nhtt
 ps://jewishlehighvalley.org/calendar/600pm-ki-purim-feast-celebration-wspi
 el\n\nYou HAVE to see this spiel! Annie! Produced by Bunny Filler & music 
 by Alex Malanych.\n\n \n\nPotluck\n\nMegillah Reading\n\nGreat KI Spiel\n
 \nMourner's Kaddish\n\n \n\nRSVP by Mar 12\n\nby signing up HERE with wha
 t you'll bring for dinner.
DTSTART;TZID=America/New_York:20250314T180000
DTEND;TZID=America/New_York:20250314T200000
END:VEVENT
END:VCALENDAR
