BEGIN:VCALENDAR
PRODID:-//eluceo/ical//2.0/EN
VERSION:2.0
CALSCALE:GREGORIAN
BEGIN:VEVENT
UID:3fd5ac78c8e26b2c43a8444aa1770107
DTSTAMP:20260425T213825Z
SUMMARY:6:30 pm JCC J-ARTS: Winter Mosaics
DESCRIPTION:Jewish Federation of the Lehigh Valley\nCommunity Calendar\nhtt
 ps://jewishlehighvalley.org/calendar/630-pm-jcc-j-arts-winter-mosaics-jan-
 to-march-2018\n\nContact Amy Sams: asams@lvjcc.org or 610-435-3571.
DTSTART;TZID=America/New_York:20180129T183000
DTEND;TZID=America/New_York:20180129T203000
END:VEVENT
END:VCALENDAR
