BEGIN:VCALENDAR
PRODID:-//eluceo/ical//2.0/EN
VERSION:2.0
CALSCALE:GREGORIAN
BEGIN:VEVENT
UID:c110f422833f0e32b7d2cdf2211124b4
DTSTAMP:20260419T225431Z
SUMMARY:6:30 pm TBE Sisterhood Mah Jongg March 2025
DESCRIPTION:Jewish Federation of the Lehigh Valley\nCommunity Calendar\nhtt
 ps://jewishlehighvalley.org/calendar/630-pm-tbe-sisterhood-mah-jongg-march
 -2025\n\nTBE Sisterhood Mah Jongg
DTSTART;TZID=America/New_York:20250317T183000
DTEND;TZID=America/New_York:20250317T213000
END:VEVENT
END:VCALENDAR
