BEGIN:VCALENDAR
PRODID:-//eluceo/ical//2.0/EN
VERSION:2.0
CALSCALE:GREGORIAN
BEGIN:VEVENT
UID:0494c619566b47bad3e029003b68910b
DTSTAMP:20260422T055536Z
SUMMARY:6:30pm JCC Finance Committee Meeting
DESCRIPTION:Jewish Federation of the Lehigh Valley\nCommunity Calendar\nhtt
 ps://jewishlehighvalley.org/calendar/630pm-jcc-finance-committee-meeting-f
 y24\n\nJCC Finance Committee Meeting
DTSTART;TZID=America/New_York:20230816T183000
DTEND;TZID=America/New_York:20230816T193000
END:VEVENT
END:VCALENDAR
