BEGIN:VCALENDAR
PRODID:-//eluceo/ical//2.0/EN
VERSION:2.0
CALSCALE:GREGORIAN
BEGIN:VEVENT
UID:ecea04921d5b6b8c4c86da49062d2987
DTSTAMP:20260422T145743Z
SUMMARY:6pm JCC Dip-N-Disco
DESCRIPTION:Jewish Federation of the Lehigh Valley\nCommunity Calendar\nhtt
 ps://jewishlehighvalley.org/calendar/6pm-jcc-dip-n-disco\n\nDip-N-Disco is
  BACK! This event is sure to be a hit. Why? Because there’s nothing bett
 er than swimming\, dancing\, and eating ice cream. Drop the kids off for a
 n evening of fun while you enjoy the\nnight out.
DTSTART;TZID=America/New_York:20230114T180000
DTEND;TZID=America/New_York:20230114T210000
END:VEVENT
END:VCALENDAR
