BEGIN:VCALENDAR
PRODID:-//eluceo/ical//2.0/EN
VERSION:2.0
CALSCALE:GREGORIAN
BEGIN:VEVENT
UID:d628fd80d655f9b682f9b6107475e44f
DTSTAMP:20260421T234848Z
SUMMARY:7 pm TBE Full Megillah Reading with Brith Shalom
DESCRIPTION:Jewish Federation of the Lehigh Valley\nCommunity Calendar\nhtt
 ps://jewishlehighvalley.org/calendar/7-pm-tbe-full-megillah-reading-with-b
 rith-shalom\n\nFull Megilliah Reading with Brith Shalom
DTSTART;TZID=America/New_York:20250313T193000
DTEND;TZID=America/New_York:20250313T213000
END:VEVENT
END:VCALENDAR
