BEGIN:VCALENDAR
PRODID:-//eluceo/ical//2.0/EN
VERSION:2.0
CALSCALE:GREGORIAN
BEGIN:VEVENT
UID:fe6b1a68b946a2e5591a21177d8c6431
DTSTAMP:20260421T235040Z
SUMMARY:7 pm TBE Tu B'Shevat Dinner February 3\, 2023
DESCRIPTION:Jewish Federation of the Lehigh Valley\nCommunity Calendar\nhtt
 ps://jewishlehighvalley.org/calendar/7-pm-tbe-tu-bshevat-dinner-february-3
 -2023\n\n7 pm TBE Tu B'Shevat Dinner
DTSTART;TZID=America/New_York:20230203T190000
DTEND;TZID=America/New_York:20230203T210000
END:VEVENT
END:VCALENDAR
