BEGIN:VCALENDAR
PRODID:-//eluceo/ical//2.0/EN
VERSION:2.0
CALSCALE:GREGORIAN
BEGIN:VEVENT
UID:bad7cab9b01f122b1ca2cdb35e5f7e97
DTSTAMP:20260421T092856Z
SUMMARY:7:00 CBS The Ethical Life - Jewish Values in an Age of Choice3
DESCRIPTION:Jewish Federation of the Lehigh Valley\nCommunity Calendar\nhtt
 ps://jewishlehighvalley.org/calendar/700-cbs-the-ethical-life-jewish-value
 s-in-an-age-of-choice3\n\nThe Ethical Life - Jewish Values in an Age of Ch
 oice\n\nA course in Jewish Ethics from JTS\nLed by Rabbi Michael Singer\n\
 nFrom political and financial scandals to rapid progress in biomedical sci
 ence and technology\, the complex issues\nof modern society are\, at their
  core\, issues of ethical and moral concern. Now\, more than ever\, we req
 uire a solid\nunderstanding of how Jewish ethics can inform our discussion
 s and decisions about the critical questions of the day.\nEach session of
  The Ethic...
DTSTART;TZID=America/New_York:20200422T190000
DTEND;TZID=America/New_York:20200422T210000
END:VEVENT
END:VCALENDAR
