BEGIN:VCALENDAR
PRODID:-//eluceo/ical//2.0/EN
VERSION:2.0
CALSCALE:GREGORIAN
BEGIN:VEVENT
UID:b0f9f217972f7b3ed9c8315134240997
DTSTAMP:20260423T063403Z
SUMMARY:7:00 pm CBS The Ethical Life
DESCRIPTION:Jewish Federation of the Lehigh Valley\nCommunity Calendar\nhtt
 ps://jewishlehighvalley.org/calendar/700-pm-cbs-the-ethical-life\n\nThe Et
 hical Life - Jewish Values in an Age of Choice\n\nA course in Jewish Ethic
 s from JTS\nLed by Rabbi Michael Singer\n\nFrom political and financial sc
 andals to rapid progress in biomedical science and technology\, the comple
 x issues\nof modern society are\, at their core\, issues of ethical and mo
 ral concern. Now\, more than ever\, we require a solid\nunderstanding of h
 ow Jewish ethics can inform our discussions and decisions about the critic
 al questions of the day.\nEach session of The Ethic...
DTSTART;TZID=America/New_York:20200304T190000
DTEND;TZID=America/New_York:20200304T210000
END:VEVENT
END:VCALENDAR
