BEGIN:VCALENDAR
PRODID:-//eluceo/ical//2.0/EN
VERSION:2.0
CALSCALE:GREGORIAN
BEGIN:VEVENT
UID:d144ce48e6090267ee786ac66e5761f0
DTSTAMP:20260420T013746Z
SUMMARY:7:00 pm JFS Executive Board of Directors Meeting Zoom
DESCRIPTION:Jewish Federation of the Lehigh Valley\nCommunity Calendar\nhtt
 ps://jewishlehighvalley.org/calendar/700-pm-jfs-executive-board-of-directo
 rs-meeting-zoom\n\nMeeting will be held virtually through Zoom
DTSTART;TZID=America/New_York:20250310T190000
DTEND;TZID=America/New_York:20250310T200000
END:VEVENT
END:VCALENDAR
