BEGIN:VCALENDAR
PRODID:-//eluceo/ical//2.0/EN
VERSION:2.0
CALSCALE:GREGORIAN
BEGIN:VEVENT
UID:5c1613829242517e43c03c3a57a66ac7
DTSTAMP:20260419T205726Z
SUMMARY:7:00 pm KI Board of Trustees
DESCRIPTION:Jewish Federation of the Lehigh Valley\nCommunity Calendar\nhtt
 ps://jewishlehighvalley.org/calendar/700-pm-ki-board-of-trustees-5-16-18\n
 \nContact Vikki Dunn: vdunn@kilv.org or 610-435-9074.
DTSTART;TZID=America/New_York:20180516T190000
DTEND;TZID=America/New_York:20180516T210000
END:VEVENT
END:VCALENDAR
