BEGIN:VCALENDAR
PRODID:-//eluceo/ical//2.0/EN
VERSION:2.0
CALSCALE:GREGORIAN
BEGIN:VEVENT
UID:ad06c56854fa70a52c8743b86198d2e3
DTSTAMP:20260423T232952Z
SUMMARY:7:00 pm TBE Healing Service
DESCRIPTION:Jewish Federation of the Lehigh Valley\nCommunity Calendar\nhtt
 ps://jewishlehighvalley.org/calendar/700-pm-tbe-healing-service\n\n7:00 pm
  TBE Healing Service
DTSTART;TZID=America/New_York:20130502T190000
DTEND;TZID=America/New_York:20130502T200000
END:VEVENT
END:VCALENDAR
